BEGIN:VCALENDAR
VERSION:2.0
PRODID:-//ChamberMaster//Event Calendar 2.0//EN
METHOD:PUBLISH
X-PUBLISHED-TTL:P3D
REFRESH-INTERVAL:P3D
CALSCALE:GREGORIAN
BEGIN:VEVENT
DTSTART:20260529T190000Z
DTEND:20260529T190000Z
X-MICROSOFT-CDO-ALLDAYEVENT:FALSE
SUMMARY:Adult Field Trip: House of Mary Shrine
DESCRIPTION:To close out the month\, there will be a visit to House of Mary Shrine\, located six miles west of Yankton (142 Drees Dr.)\, on Friday\, May 29 at 2 pm. Participants will get a tour of the location that features a chapel\, Holy garden\, gift shop\, and trails. Please note that this field trip involves extended walking.\n\n \n\nThese programs are for folks 18 years of age and older. Beginning Friday\, May 1\, adults can register for free to take part in these trips. Registration before the program dates will be required as spaces are limited. Participants will meet at the locations. Transportation will not be provided.\n\n\n\nAges 18+  | Free registration required
X-ALT-DESC;FMTTYPE=text/html:<div class="x_elementToProof" data-olk-copy-source="MessageBody" style="border: 0px\; font-variant-numeric: inherit\; font-variant-east-asian: inherit\; font-variant-alternates: inherit\; font-variant-position: inherit\; font-variant-emoji: inherit\; font-stretch: inherit\; font-size: 12pt\; line-height: inherit\; font-family: Aptos\, Aptos_EmbeddedFont\, Aptos_MSFontService\, Calibri\, Helvetica\, sans-serif\; font-optical-sizing: inherit\; font-size-adjust: inherit\; font-kerning: inherit\; font-feature-settings: inherit\; font-variation-settings: inherit\; font-language-override: inherit\; margin: 0in 0in 0.0001pt\; padding: 0px\; vertical-align: baseline\; color: rgb(118\, 62\, 155) !important\;"><span style="color:#000000\;">To close out the month\, there will be a visit to House of Mary Shrine\, located six miles west of Yankton (142 Drees Dr.)\, on Friday\, May 29 at 2 pm. Participants will get a tour of the location that features a chapel\, Holy garden\, gift shop\, and trails. Please note that this field trip involves extended walking.</span></div>\n\n<div aria-hidden="true" class="x_elementToProof" style="border: 0px\; font-variant-numeric: inherit\; font-variant-east-asian: inherit\; font-variant-alternates: inherit\; font-variant-position: inherit\; font-variant-emoji: inherit\; font-stretch: inherit\; font-size: 12pt\; line-height: 1.38\; font-family: Aptos\, Aptos_EmbeddedFont\, Aptos_MSFontService\, Calibri\, Helvetica\, sans-serif\; font-optical-sizing: inherit\; font-size-adjust: inherit\; font-kerning: inherit\; font-feature-settings: inherit\; font-variation-settings: inherit\; font-language-override: inherit\; margin: 0in 0in 0.0001pt\; padding: 0px\; vertical-align: baseline\; color: rgb(118\, 62\, 155) !important\;">&nbsp\;</div>\n\n<div class="x_elementToProof" style="border: 0px\; font-variant-numeric: inherit\; font-variant-east-asian: inherit\; font-variant-alternates: inherit\; font-variant-position: inherit\; font-variant-emoji: inherit\; font-stretch: inherit\; font-size: 12pt\; line-height: 1.38\; font-family: Aptos\, Aptos_EmbeddedFont\, Aptos_MSFontService\, Calibri\, Helvetica\, sans-serif\; font-optical-sizing: inherit\; font-size-adjust: inherit\; font-kerning: inherit\; font-feature-settings: inherit\; font-variation-settings: inherit\; font-language-override: inherit\; margin: 0in 0in 0.0001pt\; padding: 0px\; vertical-align: baseline\; color: rgb(118\, 62\, 155) !important\;"><span style="color:#000000\;">These programs are for folks 18 years of age and older. Beginning Friday\, May 1\, adults can register for free to take part in these trips. Registration before the program dates will be required as spaces are limited. Participants will meet at the locations. Transportation will not be provided.<br />\n<br />\nAges 18+&nbsp\; | Free registration required&nbsp\;&nbsp\;</span></div>\n
LOCATION:House of Mary Shrine
UID:e.1120.59712
SEQUENCE:3
DTSTAMP:20260422T110123Z
URL:https://business.yanktonsd.com/events/details/adult-field-trip-house-of-mary-shrine-59712
END:VEVENT

END:VCALENDAR
