BEGIN:VCALENDAR
VERSION:2.0
PRODID:-//ChamberMaster//Event Calendar 2.0//EN
METHOD:PUBLISH
X-PUBLISHED-TTL:P3D
REFRESH-INTERVAL:P3D
CALSCALE:GREGORIAN
BEGIN:VEVENT
DTSTART:20260508T190000Z
DTEND:20260508T190000Z
X-MICROSOFT-CDO-ALLDAYEVENT:FALSE
SUMMARY:Adult Field Trip: Water Treatment Plan
DESCRIPTION:For those who missed the first visit last November\, there will be a bonus trip to the City of Yankton's Water Treatment Plant (105 W Riverside Dr.) on Friday\, May 8 at 2 pm. Participants will get a tour of the state-of-the-art plant that opened in 2020. \n\n\n\nRegister opens May 1. Must be ages 18+
X-ALT-DESC;FMTTYPE=text/html:<!--StartFragment--><span style="color:#000000\;"><span data-olk-copy-source="MessageBody" style="margin: 0in 0in 0.0001pt\; font-family: Aptos\, Aptos_EmbeddedFont\, Aptos_MSFontService\, Calibri\, Helvetica\, sans-serif\; font-size: 12pt\;">For those who missed the first visit last November\, there will be a bonus trip to the City of Yankton&rsquo\;s Water Treatment Plant (105 W Riverside Dr.) on Friday\, May 8 at 2 pm. Participants will get a tour of the state-of-the-art plant that opened in 2020.&nbsp\;<br />\n<br />\nRegister opens May 1. Must be ages 18+</span></span><!--EndFragment-->
LOCATION:Water Treatment Plant
UID:e.1120.59711
SEQUENCE:3
DTSTAMP:20260422T105943Z
URL:https://business.yanktonsd.com/events/details/adult-field-trip-water-treatment-plan-59711
END:VEVENT

END:VCALENDAR
