BEGIN:VCALENDAR
VERSION:2.0
PRODID:-//ChamberMaster//Event Calendar 2.0//EN
METHOD:PUBLISH
X-PUBLISHED-TTL:P3D
REFRESH-INTERVAL:P3D
CALSCALE:GREGORIAN
BEGIN:VEVENT
DTSTART:20260519T000000Z
DTEND:20260519T020000Z
X-MICROSOFT-CDO-ALLDAYEVENT:FALSE
SUMMARY:Election Forum for Elections
DESCRIPTION:The Yankton County SD GOP is inviting community members to attend a series of upcoming primary candidate forums. These events provide an opportunity for the public to pose questions directly to the candidate and hear their responses. \n\n\n\nGOP via email at yanktoncountysdgop@gmail.com or on Facebook at YanktonCountySDGOP
X-ALT-DESC;FMTTYPE=text/html:The Yankton County SD GOP is inviting community members to attend a series of upcoming primary candidate forums. These events provide an opportunity for the public to pose questions directly to the candidate and hear their responses.&nbsp\;<br />\n<br />\nGOP via email at yanktoncountysdgop@gmail.com or on Facebook at YanktonCountySDGOP
LOCATION:Yankton VFW
UID:e.1120.59691
SEQUENCE:3
DTSTAMP:20260422T104858Z
URL:https://business.yanktonsd.com/events/details/election-forum-for-elections-59691
END:VEVENT

END:VCALENDAR
