BEGIN:VCALENDAR
VERSION:2.0
PRODID:-//ChamberMaster//Event Calendar 2.0//EN
METHOD:PUBLISH
X-PUBLISHED-TTL:P3D
REFRESH-INTERVAL:P3D
CALSCALE:GREGORIAN
BEGIN:VEVENT
DTSTART:20260509T150000Z
DTEND:20260509T220000Z
X-MICROSOFT-CDO-ALLDAYEVENT:FALSE
SUMMARY:Home Decor Swap Event
DESCRIPTION:Join us for a Home D cor Swap at the library. Bring your gently used items and trade them for something fresh (and free!). Never been to a swap before? It's the easiest way to refresh your space without spending a dime.\n\nBeginning Sunday\, April 26\, through Friday\, May 8\, participants can donate their gently-used home d cor and kitchen items for early access to the swap. Just bring your items to the Yankton Community Library at 515 Walnut Street during business hours.\n\n \n\nThe Swap Store will be open on Saturday\, May 9\, and Sunday\, May 10. Swappers shop first from 9-10 am on Saturday. Beginning at 10 am on Saturday\, May 9\, the swap will be open to the public. All items in the Swap Store will be free to anyone who wants to "shop"! Free will donations for the Friends of the Library will be accepted.
X-ALT-DESC;FMTTYPE=text/html:<div class="x_elementToProof" data-olk-copy-source="MessageBody" style="border: 0px\; font-variant-numeric: inherit\; font-variant-east-asian: inherit\; font-variant-alternates: inherit\; font-variant-position: inherit\; font-variant-emoji: inherit\; font-stretch: inherit\; font-size: 12pt\; line-height: inherit\; font-family: Aptos\, Aptos_EmbeddedFont\, Aptos_MSFontService\, Calibri\, Helvetica\, sans-serif\; font-optical-sizing: inherit\; font-size-adjust: inherit\; font-kerning: inherit\; font-feature-settings: inherit\; font-variation-settings: inherit\; font-language-override: inherit\; margin: 1em 0in\; padding: 0px\; vertical-align: baseline\; color: rgb(118\, 62\, 155)\;"><span style="color:#000000\;">Join us for a Home D&eacute\;cor Swap at the library. Bring your gently used items and trade them for something fresh (and free!). Never been to a swap before? It&rsquo\;s the easiest way to refresh your space without spending a dime.</span></div>\n\n<div class="x_elementToProof" style="border: 0px\; font-variant-numeric: inherit\; font-variant-east-asian: inherit\; font-variant-alternates: inherit\; font-variant-position: inherit\; font-variant-emoji: inherit\; font-stretch: inherit\; font-size: 12pt\; line-height: 1.38\; font-family: Aptos\, Aptos_EmbeddedFont\, Aptos_MSFontService\, Calibri\, Helvetica\, sans-serif\; font-optical-sizing: inherit\; font-size-adjust: inherit\; font-kerning: inherit\; font-feature-settings: inherit\; font-variation-settings: inherit\; font-language-override: inherit\; margin: 0in 0in 0.0001pt\; padding: 0px\; vertical-align: baseline\; color: rgb(118\, 62\, 155)\;"><span style="color:#000000\;">Beginning Sunday\, April 26\, through Friday\, May 8\, participants can donate their gently-used home d&eacute\;cor and kitchen items for early access to the swap. Just bring your items to the Yankton Community Library at 515 Walnut Street during business hours.</span></div>\n\n<div aria-hidden="true" class="x_elementToProof" style="border: 0px\; font-variant-numeric: inherit\; font-variant-east-asian: inherit\; font-variant-alternates: inherit\; font-variant-position: inherit\; font-variant-emoji: inherit\; font-stretch: inherit\; font-size: 12pt\; line-height: 1.38\; font-family: Aptos\, Aptos_EmbeddedFont\, Aptos_MSFontService\, Calibri\, Helvetica\, sans-serif\; font-optical-sizing: inherit\; font-size-adjust: inherit\; font-kerning: inherit\; font-feature-settings: inherit\; font-variation-settings: inherit\; font-language-override: inherit\; margin: 0in 0in 0.0001pt\; padding: 0px\; vertical-align: baseline\; color: rgb(118\, 62\, 155)\;">&nbsp\;</div>\n\n<div class="x_elementToProof" style="border: 0px\; font-variant-numeric: inherit\; font-variant-east-asian: inherit\; font-variant-alternates: inherit\; font-variant-position: inherit\; font-variant-emoji: inherit\; font-stretch: inherit\; font-size: 12pt\; line-height: 1.38\; font-family: Aptos\, Aptos_EmbeddedFont\, Aptos_MSFontService\, Calibri\, Helvetica\, sans-serif\; font-optical-sizing: inherit\; font-size-adjust: inherit\; font-kerning: inherit\; font-feature-settings: inherit\; font-variation-settings: inherit\; font-language-override: inherit\; margin: 0in 0in 0.0001pt\; padding: 0px\; vertical-align: baseline\; color: rgb(118\, 62\, 155)\;"><span style="color:#000000\;">The Swap Store will be open on Saturday\, May 9\, and Sunday\, May 10. Swappers shop first from 9-10 am on Saturday. Beginning at 10 am on Saturday\, May 9\, the swap will be open to the public. All items in the Swap Store will be free to anyone who wants to &ldquo\;shop&rdquo\;! Free will donations for the Friends of the Library will be accepted.</span></div>\n
LOCATION:Yankton Community Library
UID:e.1120.59718
SEQUENCE:3
DTSTAMP:20260424T224440Z
URL:https://business.yanktonsd.com/events/details/home-decor-swap-event-59718
END:VEVENT

END:VCALENDAR
