BEGIN:VCALENDAR
VERSION:2.0
PRODID:-//ChamberMaster//Event Calendar 2.0//EN
METHOD:PUBLISH
X-PUBLISHED-TTL:P3D
REFRESH-INTERVAL:P3D
CALSCALE:GREGORIAN
BEGIN:VEVENT
DTSTART:20260502T150000Z
DTEND:20260503T210000Z
X-MICROSOFT-CDO-ALLDAYEVENT:FALSE
SUMMARY:Hunt Safe Class
DESCRIPTION:The Hunt Safe class in Yankton will be held on Saturday\, May 2 & Sunday\, May 3 at the NFAA Easton Yankton Archery Center. During this class\, students will receive training on proper firearm safety skills\, ethical hunting practices\, and a presentation on SD hunting laws. Students will be required to pass a written test that covers what they learned in class and show proficiency in hands-on skills.
X-ALT-DESC;FMTTYPE=text/html:The Hunt Safe class in Yankton will be held on Saturday\, May 2 &amp\; Sunday\, May 3 at the NFAA Easton Yankton Archery Center. During this class\, students will receive training on proper firearm safety skills\, ethical hunting practices\, and a presentation on SD hunting laws. Students will be required to pass a written test that covers what they learned in class and show proficiency in hands-on skills.
LOCATION:NFAA Easton Yankton Archery Center
UID:e.1120.59715
SEQUENCE:3
DTSTAMP:20260422T104727Z
URL:https://business.yanktonsd.com/events/details/hunt-safe-class-59715
END:VEVENT

END:VCALENDAR
