BEGIN:VCALENDAR
VERSION:2.0
PRODID:-//ChamberMaster//Event Calendar 2.0//EN
METHOD:PUBLISH
X-PUBLISHED-TTL:P3D
REFRESH-INTERVAL:P3D
CALSCALE:GREGORIAN
BEGIN:VEVENT
DTSTART:20260425T010000Z
DTEND:20260425T040000Z
X-MICROSOFT-CDO-ALLDAYEVENT:FALSE
SUMMARY:Live Music: Jay Gilbertson & Casey Gooby
DESCRIPTION:Jay Gilbertson and special guest Casey Gooby play The Copper Room Lounge on Friday\, April 24th from 8-11pm!
X-ALT-DESC;FMTTYPE=text/html:<span style="color: rgb(8\, 8\, 9)\; font-family: system-ui\, -apple-system\, &quot\;system-ui&quot\;\, &quot\;.SFNSText-Regular&quot\;\, sans-serif\; font-size: 15px\;">Jay Gilbertson and special guest Casey Gooby play The Copper Room Lounge on Friday\, April 24th from 8-11pm!</span>
LOCATION:The Copper Room
UID:e.1120.59700
SEQUENCE:3
DTSTAMP:20260423T092612Z
URL:https://business.yanktonsd.com/events/details/live-music-jay-gilbertson-casey-gooby-59700
END:VEVENT

END:VCALENDAR
