BEGIN:VCALENDAR
VERSION:2.0
PRODID:-//ChamberMaster//Event Calendar 2.0//EN
METHOD:PUBLISH
X-PUBLISHED-TTL:P3D
REFRESH-INTERVAL:P3D
CALSCALE:GREGORIAN
BEGIN:VEVENT
DTSTART:20260426T010000Z
DTEND:20260426T040000Z
X-MICROSOFT-CDO-ALLDAYEVENT:FALSE
SUMMARY:Live Music: Link West
DESCRIPTION:After wandering from his Ohio roots\, Link West now roams the prairie towns\, scattering old-time Americana and FM hits to the kind folks he meets along the way. Get yourself a drink. Sit back and relax. Link is here to help you reminisce...and to sing about the good things yet to come.
X-ALT-DESC;FMTTYPE=text/html:<span style="color: rgb(8\, 8\, 9)\; font-family: system-ui\, -apple-system\, &quot\;system-ui&quot\;\, &quot\;.SFNSText-Regular&quot\;\, sans-serif\; font-size: 15px\;">After wandering from his Ohio roots\, Link West now roams the prairie towns\, scattering old-time Americana and FM hits to the kind folks he meets along the way. Get yourself a drink. Sit back and relax. Link is here to help you reminisce...and to sing about the good things yet to come.</span>
LOCATION:The Copper Room
UID:e.1120.59701
SEQUENCE:3
DTSTAMP:20260423T025556Z
URL:https://business.yanktonsd.com/events/details/live-music-link-west-59701
END:VEVENT

END:VCALENDAR
