BEGIN:VCALENDAR
VERSION:2.0
PRODID:-//ChamberMaster//Event Calendar 2.0//EN
METHOD:PUBLISH
X-PUBLISHED-TTL:P3D
REFRESH-INTERVAL:P3D
CALSCALE:GREGORIAN
BEGIN:VEVENT
DTSTART:20260425T223000Z
DTEND:20260426T003000Z
X-MICROSOFT-CDO-ALLDAYEVENT:FALSE
SUMMARY:Live Music: Soul Collision
DESCRIPTION:Soul Collision brings a combo of rock grit\, country warmth\, and soulful expression to the Copper Room Lounge on Saturday\, April 25th from 5:30-7:30pm!
X-ALT-DESC;FMTTYPE=text/html:<span style="color: rgb(8\, 8\, 9)\; font-family: system-ui\, -apple-system\, &quot\;system-ui&quot\;\, &quot\;.SFNSText-Regular&quot\;\, sans-serif\; font-size: 15px\;">Soul Collision brings a combo of rock grit\, country warmth\, and soulful expression to the Copper Room Lounge on Saturday\, April 25th from 5:30-7:30pm!</span>
LOCATION:The Copper Room
UID:e.1120.59706
SEQUENCE:3
DTSTAMP:20260423T051351Z
URL:https://business.yanktonsd.com/events/details/live-music-soul-collision-59706
END:VEVENT

END:VCALENDAR
