BEGIN:VCALENDAR
VERSION:2.0
PRODID:-//ChamberMaster//Event Calendar 2.0//EN
METHOD:PUBLISH
X-PUBLISHED-TTL:P3D
REFRESH-INTERVAL:P3D
CALSCALE:GREGORIAN
BEGIN:VEVENT
DTSTART:20260426T000000Z
DTEND:20260426T040000Z
X-MICROSOFT-CDO-ALLDAYEVENT:FALSE
SUMMARY:Live Music: Wild Card
DESCRIPTION:Live music at Stringers
X-ALT-DESC;FMTTYPE=text/html:Live music at Stringers
LOCATION:Stringer's Bar & Grill
UID:e.1120.59709
SEQUENCE:3
DTSTAMP:20260423T085342Z
URL:https://business.yanktonsd.com/events/details/live-music-wild-card-59709
END:VEVENT

END:VCALENDAR
