BEGIN:VCALENDAR
VERSION:2.0
PRODID:-//ChamberMaster//Event Calendar 2.0//EN
METHOD:PUBLISH
X-PUBLISHED-TTL:P3D
REFRESH-INTERVAL:P3D
CALSCALE:GREGORIAN
BEGIN:VEVENT
DTSTART:20260704T140000Z
DTEND:20260704T170000Z
X-MICROSOFT-CDO-ALLDAYEVENT:FALSE
SUMMARY:Market at the Meridian
DESCRIPTION:Yankton\, SD's Downtown Farmers Market for small-scale agriculture and specialty handcrafted items. Join us on Saturday morning from May 2 - October 31 at 9AM-12PM. \n\n\n\nmarketatthemeridian.com
X-ALT-DESC;FMTTYPE=text/html:<div class="x9f619 x1n2onr6 x1ja2u2z x78zum5 xdt5ytf x2lah0s x193iq5w xz9dl7a xp6pnuw x160xiiu" style="z-index: 0\; position: relative\; flex-shrink: 0\; display: flex\; box-sizing: border-box\; flex-direction: column\; max-width: 100%\; padding-top: 12px\; font-family: system-ui\, -apple-system\, &quot\;system-ui&quot\;\, &quot\;.SFNSText-Regular&quot\;\, sans-serif\; color: rgb(28\, 30\, 33)\; font-size: 12px\;"><span class="x193iq5w xeuugli x13faqbe x1vvkbs xlh3980 xvmahel x1n0sxbx x1lliihq x1s928wv xhkezso x1gmr53x x1cpjm7i x1fgarty x1943h6x x4zkp8e x3x7a5m x6prxxf xvq8zen xo1l8bm xzsf02u" dir="auto" style="word-break: break-word\; display: block\; font-family: inherit\; overflow-wrap: break-word\; font-size: 0.9375rem\; -webkit-font-smoothing: antialiased\; line-height: 1.3333\; color: rgb(8\, 8\, 9)\; max-width: 100%\; min-width: 0px\;">Yankton\, SD&#39\;s Downtown Farmers Market for small-scale agriculture and specialty handcrafted items. Join us on Saturday morning from May 2&nbsp\;- October 31 at 9AM-12PM.&nbsp\;</span><br />\n<br />\n<a class="x1i10hfl xjbqb8w x1ejq31n x18oe1m7 x1sy0etr xstzfhl x972fbf x10w94by x1qhh985 x14e42zd x9f619 x1ypdohk xt0psk2 x3ct3a4 xdj266r x14z9mp xat24cr x1lziwak xexx8yu xyri2b x18d9i69 x1c1uobl x16tdsg8 x1hl2dhg xggy1nq x1a2a7pz xkrqix3 x1sur9pj x1fey0fg x1s688f" href="https://l.facebook.com/l.php?u=https%3A%2F%2Fwww.marketatthemeridian.com%2F%3Ffbclid%3DIwZXh0bgNhZW0CMTAAYnJpZBExWDREa3RVN3o0T1hsQUQ4anNydGMGYXBwX2lkEDIyMjAzOTE3ODgyMDA4OTIAAR4pek97o75ARiwdPoBmVFLNhUNuCz5lhZfIblgG32cBBGEE-OFgsioutZikaw_aem_tj5kZt2ECSWkvQ7PAKLJ-w&amp\;h=AT5TZU9WOGePXyNYAicjWx9TeVbJUxz3P8HetKSx5RY8ZKV31hMPX2s7GrwUbMcEIgOWZw-9BWSs8ZTl1WyhdOsMT0UEVJeNPhFCWqBSVK1S9HjYQ1Q1vJ1wmYaQ5ipgQgf-q_DQAA" rel="nofollow noreferrer" role="link" style="color: rgb(0\, 100\, 209)\; cursor: pointer\; outline: none\; border-inline-width: 0px\; margin-inline: 0px\; border-inline-style: none\; padding-inline: 0px\; -webkit-tap-highlight-color: transparent\; font-weight: 600\; list-style-type: none\; box-sizing: border-box\; touch-action: manipulation\; display: inline\; padding-bottom: 0px\; border-top-style: none\; border-bottom-width: 0px\; border-bottom-style: none\; border-top-width: 0px\; margin-bottom: 0px\; margin-top: 0px\; padding-top: 0px\; font-family: system-ui\, -apple-system\, &quot\;system-ui&quot\;\, &quot\;.SFNSText-Regular&quot\;\, sans-serif\; font-size: 15px\;" tabindex="0" target="_blank">marketatthemeridian.com</a></div>\n\n<div class="x9f619 x1n2onr6 x1ja2u2z x78zum5 xdt5ytf x2lah0s x193iq5w xp6pnuw x160xiiu" style="z-index: 0\; position: relative\; flex-shrink: 0\; display: flex\; box-sizing: border-box\; flex-direction: column\; max-width: 100%\; font-family: system-ui\, -apple-system\, &quot\;system-ui&quot\;\, &quot\;.SFNSText-Regular&quot\;\, sans-serif\; color: rgb(28\, 30\, 33)\; font-size: 12px\;">&nbsp\;</div>\n
LOCATION:
UID:e.1120.59757
SEQUENCE:3
DTSTAMP:20260424T070726Z
URL:https://business.yanktonsd.com/events/details/market-at-the-meridian-07-04-2026-59757
END:VEVENT

END:VCALENDAR
