BEGIN:VCALENDAR
VERSION:2.0
PRODID:-//ChamberMaster//Event Calendar 2.0//EN
METHOD:PUBLISH
X-PUBLISHED-TTL:P3D
REFRESH-INTERVAL:P3D
CALSCALE:GREGORIAN
BEGIN:VEVENT
DTSTART:20210501T140000Z
DTEND:20210501T170000Z
X-MICROSOFT-CDO-ALLDAYEVENT:FALSE
SUMMARY:Market at the Meridian Job Fair
DESCRIPTION:If you are seeking full-time\, part-time or flexible employment or you want to learn more about available careers\, you are invited to a free job fair on Saturday\, May 1 from 9am   12pm at the Market at Meridian located at 2nd and Douglas in Yankton. Job seekers\, youth\, parents\, teachers and community members can explore diverse and rewarding career opportunities while visiting with numerous regional employers. Attendees will be eligible to register for door prizes during this event.
X-ALT-DESC;FMTTYPE=text/html:If you are seeking full-time\, part-time or flexible employment or you want to learn more about available careers\, you are invited to a free job fair on Saturday\, May 1 from 9am &ndash\; 12pm at the Market at Meridian located at 2<sup>nd</sup> and Douglas in Yankton. Job seekers\, youth\, parents\, teachers and community members can explore diverse and rewarding career opportunities while visiting with numerous regional employers. Attendees will be eligible to register for door prizes during this event.
LOCATION:Market at the Meridian 2nd & Douglas
UID:e.1120.39117
SEQUENCE:3
DTSTAMP:20260420T040932Z
URL:https://business.yanktonsd.com/events/details/market-at-the-meridian-job-fair-39117
END:VEVENT

END:VCALENDAR
