BEGIN:VCALENDAR
VERSION:2.0
PRODID:-//ChamberMaster//Event Calendar 2.0//EN
METHOD:PUBLISH
X-PUBLISHED-TTL:P3D
REFRESH-INTERVAL:P3D
CALSCALE:GREGORIAN
BEGIN:VEVENT
DTSTART;VALUE=DATE:20250117
DTEND;VALUE=DATE:20250119
TRANSP:TRANSPARENT
X-MICROSOFT-CDO-ALLDAYEVENT:TRUE
SUMMARY:MMU Invitational & Multi's
DESCRIPTION:MMU Invitational & Multi's\n\n\nJan 17 (Fri) - Jan 18 (Sat)\n\n\n\nFor more info\, visit MMU's website: 2024-25 Men's Track and Field Schedule - Mount Marty University
X-ALT-DESC;FMTTYPE=text/html:<div class="sidearm-schedule-game-opponent-text" style="overflow-wrap: break-word\; box-sizing: border-box\; color: rgb(0\, 0\, 0)\; font-family: Mulish\; font-size: 16px\;"><span class="sidearm-schedule-game-opponent-name" style="overflow-wrap: break-word\; box-sizing: border-box\;"><a aria-label="MMU Invitational &amp\; Multi's on January 17 " href="https://mountmartyathletics.com/" style="overflow-wrap: break-word\; box-sizing: border-box\; color: rgb(0\, 0\, 0)\; font-weight: 700\; text-decoration-line: none\;" target="_blank">MMU Invitational &amp\; Multi&#39\;s</a></span></div>\n\n<div class="flex flex-justify-between" style="overflow-wrap: break-word\; box-sizing: border-box\; display: -webkit-flex\; justify-content: space-between\; color: rgb(0\, 0\, 0)\; font-family: Mulish\; font-size: 16px\;">\n<div class="sidearm-schedule-game-opponent-date flex-item-1" style="overflow-wrap: break-word\; box-sizing: border-box\; flex: 1 1 0%\; min-width: 1px\; min-height: 1px\;"><span style="overflow-wrap: break-word\; box-sizing: border-box\;">Jan 17 (Fri)</span>&nbsp\;<span class="enddate" style="overflow-wrap: break-word\; box-sizing: border-box\;">- Jan 18 (Sat)<br />\n<br />\nFor more info\, visit MMU&#39\;s website:&nbsp\;</span><a href="https://mountmartyathletics.com/sports/mens-track-and-field/schedule">2024-25 Men&#39\;s Track and Field Schedule - Mount Marty University</a></div>\n</div>\n
LOCATION:
UID:e.1120.54978
SEQUENCE:3
DTSTAMP:20260425T135100Z
URL:https://business.yanktonsd.com/events/details/mmu-invitational-multi-s-54978
END:VEVENT

END:VCALENDAR
