BEGIN:VCALENDAR
VERSION:2.0
PRODID:-//ChamberMaster//Event Calendar 2.0//EN
METHOD:PUBLISH
X-PUBLISHED-TTL:P3D
REFRESH-INTERVAL:P3D
CALSCALE:GREGORIAN
BEGIN:VEVENT
DTSTART:20260611T180000Z
DTEND:20260611T220000Z
X-MICROSOFT-CDO-ALLDAYEVENT:FALSE
SUMMARY:NextWave Network Annual Conference
DESCRIPTION:NextWave Network is proud to host its First Annual Conference on Thursday\, June 11 from 1 5 PM. As the Yankton area's young professionals group\, NextWave is dedicated to connecting\, developing\, and engaging emerging leaders in our community\, and this event is designed to do just that.\n\nJoin us for an afternoon of growth and connection\, featuring a lineup of speakers from 1 4 PM covering topics like leadership development\, financial wellness\, and mental health\, including strategies for managing stress. Attendees will also hear from local service clubs about meaningful ways to get involved and make an impact in the Yankton community.\n\nThe conference will wrap up with a networking happy hour from 4 5 PM\, giving participants the opportunity to build relationships with peers\, community leaders\, and local organizations.\n\n\n\nThis event is free to attend for all young professionals.\n\n\n\nMore details will be coming soon!
X-ALT-DESC;FMTTYPE=text/html:<p data-end="302" data-start="0"><span style="font-size:20px\;">NextWave Network is proud to host its First Annual Conference on Thursday\, June 11 from 1&ndash\;5 PM. As the Yankton area&rsquo\;s young professionals group\, NextWave is dedicated to connecting\, developing\, and engaging emerging leaders in our community\, and this event is designed to do just that.</span></p>\n\n<p data-end="656" data-start="304"><span style="font-size:20px\;">Join us for an afternoon of growth and connection\, featuring a lineup of speakers from 1&ndash\;4 PM covering topics like leadership development\, financial wellness\, and mental health\, including strategies for managing stress. Attendees will also hear from local service clubs about meaningful ways to get involved and make an impact in the Yankton community.</span></p>\n\n<p data-end="842" data-start="658"><span style="font-size:20px\;">The conference will wrap up with a networking happy hour from 4&ndash\;5 PM\, giving participants the opportunity to build relationships with peers\, community leaders\, and local organizations.<br />\n<br />\nThis event is free to attend for all young professionals.<br />\n<br />\nMore details will be coming soon!</span></p>\n
LOCATION:The Copper Room 121 West 3rd St.
UID:e.1120.59690
SEQUENCE:3
DTSTAMP:20260422T212527Z
URL:https://business.yanktonsd.com/events/details/nextwave-network-annual-conference-59690
END:VEVENT

END:VCALENDAR
