BEGIN:VCALENDAR
VERSION:2.0
PRODID:-//ChamberMaster//Event Calendar 2.0//EN
METHOD:PUBLISH
X-PUBLISHED-TTL:P3D
REFRESH-INTERVAL:P3D
CALSCALE:GREGORIAN
BEGIN:VEVENT
DTSTART:20260502T150000Z
DTEND:20260502T210000Z
X-MICROSOFT-CDO-ALLDAYEVENT:FALSE
SUMMARY:NMM Discovery Saturday
DESCRIPTION:Explore America's musical heritage at the National Music Museum's Discovery Saturday. Enjoy live folk music and storytelling with Missouri Valley Music\, featuring traditions from Irish\, Scottish\, Scandinavian\, and M tis cultures. Visitors can also pick up a special gallery guide highlighting military instruments on display. The NMM will begin participation in the Blue Star Museums program\, offering free admission to veterans and active-duty military personnel and their families from May 1 through Labor Day.
X-ALT-DESC;FMTTYPE=text/html:Explore America&rsquo\;s musical heritage at the National Music Museum&rsquo\;s Discovery Saturday. Enjoy live folk music and storytelling with Missouri Valley Music\, featuring traditions from Irish\, Scottish\, Scandinavian\, and M&eacute\;tis cultures. Visitors can also pick up a special gallery guide highlighting military instruments on display. The NMM will begin participation in the Blue Star Museums program\, offering free admission to veterans and active-duty military personnel and their families from May 1 through Labor Day.
LOCATION:National Music Museum Vermillion\, SD
UID:e.1120.59696
SEQUENCE:3
DTSTAMP:20260422T105852Z
URL:https://business.yanktonsd.com/events/details/nmm-discovery-saturday-05-02-2026-59696
END:VEVENT

END:VCALENDAR
