BEGIN:VCALENDAR
VERSION:2.0
PRODID:-//ChamberMaster//Event Calendar 2.0//EN
METHOD:PUBLISH
X-PUBLISHED-TTL:P3D
REFRESH-INTERVAL:P3D
CALSCALE:GREGORIAN
BEGIN:VEVENT
DTSTART:20220827T000000Z
DTEND:20220827T040000Z
X-MICROSOFT-CDO-ALLDAYEVENT:FALSE
SUMMARY:Ohiya Casino Game Day Giveaway Hot Seats
DESCRIPTION:Are you excited about the upcoming Nebraska football season? We are! Play Game Day Giveaway Hot Seats on Fridays to WIN two tickets to the homecoming game against Indiana this October!
X-ALT-DESC;FMTTYPE=text/html:<span style="color:windowtext">Are you excited about the upcoming Nebraska football season? We are! Play Game Day Giveaway Hot Seats on Fridays to WIN two tickets to the homecoming game against Indiana this October!</span>
LOCATION:Ohiya Casino & Resort 53142 Hwy 12 Niobrara\, NE 68760
UID:e.1120.46029
SEQUENCE:3
DTSTAMP:20260419T124342Z
URL:https://business.yanktonsd.com/events/details/ohiya-casino-game-day-giveaway-hot-seats-08-26-2022-46029
END:VEVENT

END:VCALENDAR
