BEGIN:VCALENDAR
VERSION:2.0
PRODID:-//ChamberMaster//Event Calendar 2.0//EN
METHOD:PUBLISH
X-PUBLISHED-TTL:P3D
REFRESH-INTERVAL:P3D
CALSCALE:GREGORIAN
BEGIN:VEVENT
DTSTART:20210718T230000Z
DTEND:20210719T030000Z
X-MICROSOFT-CDO-ALLDAYEVENT:FALSE
SUMMARY:Ohiya Casino & Resort Quick Cash Hot Seats
DESCRIPTION:Could you use some extra spending money? Play Quick Cash Hot Seats on Sundays and we'll draw a winner every 15 MINUTES to win $25
X-ALT-DESC;FMTTYPE=text/html:<span style="color:windowtext">Could you use some extra spending money? Play Quick Cash Hot Seats on Sundays and we&rsquo\;ll draw a winner every 15 MINUTES to win $25</span>
LOCATION:Ohiya Casino & Resort 53142 Hwy 12 Niobrara\, NE 68760
UID:e.1120.42496
SEQUENCE:3
DTSTAMP:20260420T103558Z
URL:https://business.yanktonsd.com/events/details/ohiya-casino-resort-quick-cash-hot-seats-07-18-2021-42496
END:VEVENT

END:VCALENDAR
