BEGIN:VCALENDAR
VERSION:2.0
PRODID:-//ChamberMaster//Event Calendar 2.0//EN
METHOD:PUBLISH
X-PUBLISHED-TTL:P3D
REFRESH-INTERVAL:P3D
CALSCALE:GREGORIAN
BEGIN:VEVENT
DTSTART:20260610T210000Z
DTEND:20260610T230000Z
X-MICROSOFT-CDO-ALLDAYEVENT:FALSE
SUMMARY:Pancake Feed at The Center with Pathways Shelter for the Homeless
DESCRIPTION:Pathways Shelter for the Homeless and The Center are teaming up to provide a Pancake Feed to help raise funds for Pathways Shelter for the Homeless. All are welcome! $8.00 for ages 5 on up. Ages 5 and under are free. Pancakes\, Bacon\, Sausage\, and juice will be offered.
X-ALT-DESC;FMTTYPE=text/html:Pathways Shelter for the Homeless and The Center are teaming up to provide a Pancake Feed to help raise funds for Pathways Shelter for the Homeless. All are welcome! $8.00 for ages 5 on up. Ages 5 and under are free. Pancakes\, Bacon\, Sausage\, and juice will be offered.
LOCATION:900 Whiting Drive. Yankton\, SD 57078
UID:e.1120.59689
SEQUENCE:3
DTSTAMP:20260423T003626Z
URL:https://business.yanktonsd.com/events/details/pancake-feed-at-the-center-with-pathways-shelter-for-the-homeless-59689
END:VEVENT

END:VCALENDAR
