BEGIN:VCALENDAR
VERSION:2.0
PRODID:-//ChamberMaster//Event Calendar 2.0//EN
METHOD:PUBLISH
X-PUBLISHED-TTL:P3D
REFRESH-INTERVAL:P3D
CALSCALE:GREGORIAN
BEGIN:VEVENT
DTSTART:20260427T204500Z
DTEND:20260427T214500Z
X-MICROSOFT-CDO-ALLDAYEVENT:FALSE
SUMMARY:STEAM Stress Balls Making
DESCRIPTION:In honor of National Stress Awareness month\, we hope to provide teens with some stress relief! On Monday\, April 27 from 3:45 to 4:45 pm we will be making two different types of stress balls. Jon us to learn one fun way to keep the stress away.
X-ALT-DESC;FMTTYPE=text/html:<!--StartFragment--><span style="color:#000000\;"><span data-olk-copy-source="MessageBody" style="line-height: 1.38\; margin: 0in 0in 0.0001pt\; font-family: Aptos\, Aptos_EmbeddedFont\, Aptos_MSFontService\, Calibri\, Helvetica\, sans-serif\; font-size: 12pt\;">In honor of National Stress Awareness month\, we hope to provide teens with some stress relief! On Monday\, April 27 from 3:45 to 4:45 pm we will be making two different types of stress balls. Jon us to learn one fun way to keep the stress away.</span></span><!--EndFragment-->
LOCATION:Boys & Girls Club
UID:e.1120.59714
SEQUENCE:3
DTSTAMP:20260424T032623Z
URL:https://business.yanktonsd.com/events/details/steam-stress-balls-making-59714
END:VEVENT

END:VCALENDAR
