BEGIN:VCALENDAR
VERSION:2.0
PRODID:-//ChamberMaster//Event Calendar 2.0//EN
METHOD:PUBLISH
X-PUBLISHED-TTL:P3D
REFRESH-INTERVAL:P3D
CALSCALE:GREGORIAN
BEGIN:VEVENT
DTSTART:20260428T220000Z
DTEND:20260429T000000Z
X-MICROSOFT-CDO-ALLDAYEVENT:FALSE
SUMMARY:Taphouse Tuesday @ The Elks
DESCRIPTION:Join us Tuesday\, April 28th for Taphouse Tuesday!\n\nEnjoy live music from Kelly Lehr & Monte Gulick.
X-ALT-DESC;FMTTYPE=text/html:<span style="color: rgb(8\, 8\, 9)\; font-family: system-ui\, -apple-system\, &quot\;system-ui&quot\;\, &quot\;.SFNSText-Regular&quot\;\, sans-serif\; font-size: 15px\;">Join us Tuesday\, April 28th for Taphouse Tuesday!</span><br class="html-br" style="color: rgb(8\, 8\, 9)\; font-family: system-ui\, -apple-system\, &quot\;system-ui&quot\;\, &quot\;.SFNSText-Regular&quot\;\, sans-serif\; font-size: 15px\;" />\n<span style="color: rgb(8\, 8\, 9)\; font-family: system-ui\, -apple-system\, &quot\;system-ui&quot\;\, &quot\;.SFNSText-Regular&quot\;\, sans-serif\; font-size: 15px\;">Enjoy live music from Kelly Lehr &amp\; Monte Gulick.</span>
LOCATION:The Elks Lodge
UID:e.1120.59708
SEQUENCE:3
DTSTAMP:20260423T190847Z
URL:https://business.yanktonsd.com/events/details/taphouse-tuesday-the-elks-59708
END:VEVENT

END:VCALENDAR
