BEGIN:VCALENDAR
VERSION:2.0
PRODID:-//ChamberMaster//Event Calendar 2.0//EN
METHOD:PUBLISH
X-PUBLISHED-TTL:P3D
REFRESH-INTERVAL:P3D
CALSCALE:GREGORIAN
BEGIN:VEVENT
DTSTART:20220115T023000Z
DTEND:20220115T053000Z
X-MICROSOFT-CDO-ALLDAYEVENT:FALSE
SUMMARY:The Rough Diamonds live at The Copper Room
DESCRIPTION:Join The Rough Diamonds in the Copper Room for another night of acoustic music! Doors open at 5 PM and music starts at 8:30pm. No cover charge.
X-ALT-DESC;FMTTYPE=text/html:<span font-size:="" style="color: rgb(5\, 5\, 5)\; font-family: system-ui\, -apple-system\, system-ui\, ">Join The Rough Diamonds in the Copper Room for another night of acoustic music! Doors open at 5 PM and music starts at 8:30pm. No cover charge.</span>
LOCATION:The Copper Room 222 1/2 W 3rd Street Yankton\, SD
UID:e.1120.43797
SEQUENCE:3
DTSTAMP:20260423T145434Z
URL:https://business.yanktonsd.com/events/details/the-rough-diamonds-live-at-the-copper-room-43797
END:VEVENT

END:VCALENDAR
