BEGIN:VCALENDAR
VERSION:2.0
PRODID:-//ChamberMaster//Event Calendar 2.0//EN
METHOD:PUBLISH
X-PUBLISHED-TTL:P3D
REFRESH-INTERVAL:P3D
CALSCALE:GREGORIAN
BEGIN:VEVENT
DTSTART:20260425T150000Z
DTEND:20260425T180000Z
X-MICROSOFT-CDO-ALLDAYEVENT:FALSE
SUMMARY:Young Entrepreneur Craft Fair
DESCRIPTION:Support local industry and young entrepreneurs for this special event in our parking lot. Check out handmade and designed items from a local homeschool co-op. They'll be eager to share details on their craftsmanship and showcase their artistry.
X-ALT-DESC;FMTTYPE=text/html:<span style="color: rgb(8\, 8\, 9)\; font-family: system-ui\, -apple-system\, &quot\;system-ui&quot\;\, &quot\;.SFNSText-Regular&quot\;\, sans-serif\; font-size: 15px\;">Support local industry and young entrepreneurs for this special event in our parking lot. Check out handmade and designed items from a local homeschool co-op. They&rsquo\;ll be eager to share details on their craftsmanship and showcase their artistry.</span>
LOCATION:David's Depot
UID:e.1120.59697
SEQUENCE:3
DTSTAMP:20260423T064451Z
URL:https://business.yanktonsd.com/events/details/young-entrepreneur-craft-fair-59697
END:VEVENT

END:VCALENDAR
